BEGIN:VCALENDAR
VERSION:2.0
PRODID:-//BCBEC - ECPv5.16.4//NONSGML v1.0//EN
CALSCALE:GREGORIAN
METHOD:PUBLISH
X-WR-CALNAME:BCBEC
X-ORIGINAL-URL:https://bcbec.com
X-WR-CALDESC:Events for BCBEC
BEGIN:VTIMEZONE
TZID:America/Vancouver
BEGIN:DAYLIGHT
TZOFFSETFROM:-0800
TZOFFSETTO:-0700
TZNAME:PDT
DTSTART:20240310T100000
END:DAYLIGHT
BEGIN:STANDARD
TZOFFSETFROM:-0700
TZOFFSETTO:-0800
TZNAME:PST
DTSTART:20241103T090000
END:STANDARD
END:VTIMEZONE
BEGIN:VEVENT
DTSTART;VALUE=DATE:20240520
DTEND;VALUE=DATE:20240521
DTSTAMP:20260425T055331
CREATED:20240424T145101Z
LAST-MODIFIED:20250111T131001Z
UID:8064-1716163200-1716249599@bcbec.com
SUMMARY:Call for Presenters!
DESCRIPTION:Call for Presenters!\nAre you passionate about sharing your expertise and insights with an engaged audience? Do you have a unique perspective or innovative ideas that you believe can make a difference? Do you have suggestions for topics or content you’d like see at our events? We want to hear from you! Please take a few minutes to complete this form. \nThe BC Building Envelope Council (BCBEC) is thrilled to announce our call for presenters for our 2024 Annual Conference and AGM\, scheduled to take place on Friday\, November 15\, 2024 at the JW Marriott Parq Hotel in Vancouver\, BC. This is an in-person event that is typically attended by over 300 people\, and there are 6-8 presentations ranging from 25-45 minutes in length. \nWe are seeking dynamic speakers who can inspire\, educate\, and provoke thought in the Building Science industry. This year’s AGM will highlight existing buildings. We are also always seeking presenters for our regular online and live luncheons on a wide range of topics. Luncheons are 1-2 hours and audiences usually average 50-75 people. \nWhether you’re an industry leader\, a seasoned professional\, or an emerging talent\, we welcome submissions from individuals eager to share their knowledge and experiences. \nWhy present at BCBEC?\n1.   Reach a Diverse Audience: Connect with professionals\, enthusiasts\, and thought leaders from the industry and other backgrounds.\n2.   Enhance Your Visibility: Gain exposure and recognition as a subject matter expert in your field.\n3.   Networking Opportunities: Forge valuable connections with fellow presenters\, attendees\, and potential collaborators.\n4.   Contribute to Knowledge Exchange: Be part of a platform dedicated to fostering dialogue\, learning\, and innovation. \nSubmission Guidelines:\n•  Presentation proposals submitted in this form should be no more than 300 words\, clearly outlining your topic\, objectives\, and key takeaways.\n•  Include a brief bio highlighting your expertise and relevant experience.\n•  Deadline for submissions: Monday\, May 20\, 2024 \nDon’t miss this opportunity to showcase your ideas and contribute to an inspiring exchange of knowledge at the 2024 Annual Conference and AGM and/or upcoming luncheons! \n  \nSubmit your proposal today by completing this form: Call for Presenters! Form \n  \nAlternatively\, please feel free to use this QR Code:\n \nFor inquiries or further information about this call for presenters\, please email info@bcbec.org with the subject line BCBEC Presenter Inquiry – [your name] \n \n 
URL:https://bcbec.com/event/call-for-presenters/
CATEGORIES:Vancouver Events,Workshops & Seminars
END:VEVENT
END:VCALENDAR