BEGIN:VCALENDAR
VERSION:2.0
PRODID:-//BCBEC - ECPv5.16.4//NONSGML v1.0//EN
CALSCALE:GREGORIAN
METHOD:PUBLISH
X-WR-CALNAME:BCBEC
X-ORIGINAL-URL:https://bcbec.com
X-WR-CALDESC:Events for BCBEC
BEGIN:VTIMEZONE
TZID:America/Vancouver
BEGIN:DAYLIGHT
TZOFFSETFROM:-0800
TZOFFSETTO:-0700
TZNAME:PDT
DTSTART:20240310T100000
END:DAYLIGHT
BEGIN:STANDARD
TZOFFSETFROM:-0700
TZOFFSETTO:-0800
TZNAME:PST
DTSTART:20241103T090000
END:STANDARD
END:VTIMEZONE
BEGIN:VEVENT
DTSTART;TZID=America/Vancouver:20240410T114500
DTEND;TZID=America/Vancouver:20240410T140000
DTSTAMP:20260425T074645
CREATED:20240307T155828Z
LAST-MODIFIED:20240506T123658Z
UID:8031-1712749500-1712757600@bcbec.com
SUMMARY:Vancouver Luncheon Seminar - Whole Building Air Leakage Testing - What Are We Actually Testing
DESCRIPTION:Agenda:\n11:45 – 12:00   Registration & Housekeeping\n12:00 – 12:30   Lunch\n12:30 –    1:30   Presentation and Q&A\n   1:30 –    2:00   Networking (optional) \nAbout the Presenter:\n  \nDan Gronross\nAxiom Builders \nAfter over 14 years in the Building Envelope Consulting side of the construction industry\, Dan Gronross made a switch to the construction side of the table. Dan helps Axiom Builders navigate the building code changes\, embodied carbon requirements and the constructability of the next generation of high performance buildings. \n  \nAbout the Topic: Whole Building Air Leakage Testing – What Are We Actually Testing\nThe point of Whole Building Air Leakage Testing is to provide a value of air leakage for the unintended air leakage through the building envelope. Preparing the building and the mechanical systems within the building is critical to ensuring that we are only measuring the unintended leakage and not that through the intended air leakage points (Mechanical system\, windows\, doors\, etc.) . The discussion will include a step by step process for preparing the building and some lessons learned.  \n  \nSEMINAR PRESENTATION:\n\n\n\nWhole Building Air Leakage Testing – What Are We Actually Testing\n \nDan GronrossAxiom Builders\nApril 2024\n\n\n\n\n\n \n 
URL:https://bcbec.com/event/vancouver-luncheon-seminar-whole-building-air-leakage-testing-what-are-we-actually-testing/
LOCATION:The Italian Cultural Centre Society\, 3075 Slocan Street\, Vancouver\, British Columbia\, V5M 3E4\, Canada
CATEGORIES:Vancouver Events,Workshops & Seminars
END:VEVENT
END:VCALENDAR