BEGIN:VCALENDAR
VERSION:2.0
PRODID:-//BCBEC - ECPv5.16.4//NONSGML v1.0//EN
CALSCALE:GREGORIAN
METHOD:PUBLISH
X-WR-CALNAME:BCBEC
X-ORIGINAL-URL:https://bcbec.com
X-WR-CALDESC:Events for BCBEC
BEGIN:VTIMEZONE
TZID:America/Vancouver
BEGIN:DAYLIGHT
TZOFFSETFROM:-0800
TZOFFSETTO:-0700
TZNAME:PDT
DTSTART:20090308T100000
END:DAYLIGHT
BEGIN:STANDARD
TZOFFSETFROM:-0700
TZOFFSETTO:-0800
TZNAME:PST
DTSTART:20091101T090000
END:STANDARD
END:VTIMEZONE
BEGIN:VEVENT
DTSTART;TZID=America/Vancouver:20090525T120000
DTEND;TZID=America/Vancouver:20090525T140000
DTSTAMP:20260425T195206
CREATED:20171027T072241Z
LAST-MODIFIED:20180207T221619Z
UID:1346-1243252800-1243260000@bcbec.com
SUMMARY:Victoria Luncheon:  Windows\, Doors & Skylights\, How Do We Comply With the New Regulations?
DESCRIPTION:About the presenter : \nAndrew Pape-Salmon is the Director of the Energy Efficiency Branch with the BC Ministry of Energy\, Mines and Petroleum Resources. He is responsible for implementing the Province’s Energy Efficient Buildings Strategy (EEBS) which includes the LiveSmart BC Efficiency Incentive Program\, support for green provisions in the BC Building Code\, the development of regulated standards for equipment and manufactured building components under the Energy Efficiency Act\, a net zero energy homes and buildings program and last but not least the Community Action on Energy and Emissions Program. \nAbout the Topic: \nAndrew’s topic this month is specific to the regulation of energy efficiency of windows\, doors and skylights that form part of the building envelope. This is a follow-up of the overview of the changes in the regulation of energy efficiency for buildings which Andrew presented about 18 months ago. Now the regulations are in place and his presentation will help us to understand and implement them in our design and construction of buildings. His talk will focus on the changes in regulations for fenestration systems as they apply to both new and existing buildings. It will provide a detailed overview of the specific changes in the regulations\, and steps required to test and label the products to comply with them. Please join the members and guests in learning more about the new laws that govern the energy efficiency of our buildings and the steps we need to take to comply. \n  \nSeminar Presentation: \n\n\n\nNEW WINDOW REGULATIONS\nAndrew\nPape-Salmon\nB.C. Ministry of Energy\, Mines and Petroleum Resources\nMay 2009
URL:https://bcbec.com/event/victoria-luncheon-windows-doors-skylights-comply-new-regulations/
LOCATION:The Ambrosia Centre\, 638 Fisgard St\, Victoria\, BC\, V8W 1R6\, Canada
CATEGORIES:Vancouver Island Events,Workshops & Seminars
END:VEVENT
END:VCALENDAR