BEGIN:VCALENDAR
VERSION:2.0
PRODID:-//BCBEC - ECPv5.16.4//NONSGML v1.0//EN
CALSCALE:GREGORIAN
METHOD:PUBLISH
X-WR-CALNAME:BCBEC
X-ORIGINAL-URL:https://bcbec.com
X-WR-CALDESC:Events for BCBEC
BEGIN:VTIMEZONE
TZID:America/Vancouver
BEGIN:DAYLIGHT
TZOFFSETFROM:-0800
TZOFFSETTO:-0700
TZNAME:PDT
DTSTART:20260308T100000
END:DAYLIGHT
BEGIN:STANDARD
TZOFFSETFROM:-0700
TZOFFSETTO:-0800
TZNAME:PST
DTSTART:20261101T090000
END:STANDARD
END:VTIMEZONE
BEGIN:VEVENT
DTSTART;TZID=America/Vancouver:20260526T114500
DTEND;TZID=America/Vancouver:20260526T140000
DTSTAMP:20260424T035126
CREATED:20260423T145316Z
LAST-MODIFIED:20260423T151846Z
UID:9325-1779795900-1779804000@bcbec.com
SUMMARY:Victoria Luncheon - Masonry Veneers in High-Rain Climates: Detailing for Water Management\, Movement\, and Durability
DESCRIPTION:Agenda\n11:45 – 12:00   Registration & Housekeeping\n12:00 – 12:30   Lunch\n12:30 –    1:30   Presentation and Q&A\n   1:30 –    2:00   Networking (optional) \nAbout the Presenter\n \nJennifer Karpuk\, B.A.Sc.\, P.Eng.\nCanada Masonry Design Centre – Vancouver \nJennifer Karpuk Jennifer earned her B.A.Sc. from the University of British Columbia (Okanagan Campus) in 2020 and brings five years of experience as a Structural Engineer at Fast + Epp. Her background spans the full project lifecycle\, including design\, construction-phase project management\, site reviews\, and multidisciplinary coordination. She has worked with local seismic conditions\, as well as retrofit and rehabilitation projects across a range of materials. \nJennifer joined CMDC in late 2025 and is based in the Vancouver office to provide local support to both designers and contractors. \nAbout the Topic\nMasonry Veneers in High-Rain Climates: Detailing for Water Management\, Movement\, and Durability\nThis presentation will introduce key factors masonry veneers from materials to rainscreen principles and common concerns. The primary focus will be on the detailing considerations designer can add to their toolkit to aid in preventing moisture ingress as well as discussion of best practices from industry and code requirements for detailing of element such as movement joint\, shelf angles and more. \n Learning objectives:\n1 – Attendees will understand the difference between a different types of masonry veneers (Masonry Veneers\, Unit Masonry Veneers\, Rainscreens\, and Adhered Veneers)\n2 – Attendee will gain an understanding of the purpose of movement joints and shelf angles as well as their placement\n3 – Those in Attendance will learn about possible sources moisture ingress and the level of redundancy well detail masonry veneers offer. \nREGISTRATION\nPlease Note:\nAll WALK-UPS (non pre-registered attendees) must pay a blanket price of $65.00\, including Students and Members. \nRefunds:\nNo Refunds after Friday\, May 22nd Noon. Refunds will be offered before May 22nd less $25 admin charge. \nEducation Credits:\nThis luncheon seminar qualifies for 1.0 AIBC Core Learning Unit. To receive credit\, enter a valid AIBC Registration Number during the online registration process. \nTo register for this event\, click on the following link: VICTORIA Luncheon Seminar Tuesday May 26\, 2026 \n \n 
URL:https://bcbec.com/event/victoria-luncheon-masonry-veneers-in-high-rain-climates-detailing-for-water-management-movement-and-durability/
LOCATION:Hotel Grand Pacific\, South Pender Island Ballroom\, 463 Belleville Street\, Victoria\, British Columbia\, V8V 1X3\, Canada
CATEGORIES:Vancouver Island Events,Workshops & Seminars
END:VEVENT
END:VCALENDAR