BEGIN:VCALENDAR
VERSION:2.0
PRODID:-//BCBEC - ECPv5.16.4//NONSGML v1.0//EN
CALSCALE:GREGORIAN
METHOD:PUBLISH
X-WR-CALNAME:BCBEC
X-ORIGINAL-URL:https://bcbec.com
X-WR-CALDESC:Events for BCBEC
BEGIN:VTIMEZONE
TZID:America/Vancouver
BEGIN:DAYLIGHT
TZOFFSETFROM:-0800
TZOFFSETTO:-0700
TZNAME:PDT
DTSTART:20090308T100000
END:DAYLIGHT
BEGIN:STANDARD
TZOFFSETFROM:-0700
TZOFFSETTO:-0800
TZNAME:PST
DTSTART:20091101T090000
END:STANDARD
END:VTIMEZONE
BEGIN:VEVENT
DTSTART;TZID=America/Vancouver:20090416T120000
DTEND;TZID=America/Vancouver:20090416T140000
DTSTAMP:20260425T170056
CREATED:20171027T072706Z
LAST-MODIFIED:20180207T221412Z
UID:1350-1239883200-1239890400@bcbec.com
SUMMARY:Vancouver Luncheon: Mid-Rise Wood Frame Buildings - APEGBC Bulletin & Experiences from the Pacific Northwest
DESCRIPTION:The Province of British Columbia\, through the Building and Safety Policy Branch\, has made changes to the BC Building Code that allow for the construction of wood frame structures for up to 6 stories.  This change from 4 to 6 stories introduces additional complexities for the design and construction team particularly with respect to the structure\, fire protection systems and the building enclosure. \nThe Association of Professional Engineers and Geoscientists of British Columbia (APEGBC) received funding from the Province to produce a technical bulletin that alerts practitioners to the unique complexities associated with 6 story wood frame construction.  Dave Ricketts\, from RDH Building Engineering Ltd.\, will present a summary of the APGEBC bulletin related to the building envelope. \nMike Steffen of Walsh Construction Co. will review issues associated with the design and construction of mid-rise wood frame buildings within dense urban settings in Oregon and Washington\, based on his experience.  While this talk will be primarily focused on building enclosure design and construction\, related structural\, mechanical and fire resistance issues will be covered as well. \nMike Steffen\, LEED® AP\, AIA\, CSI is Vice President and General Manager of Walsh Construction Co./OR\, based in Portland\, Oregon.  Walsh is a Pacific Northwest general contractor specializing in all types of multi-unit housing\, renovation\, educational facilities\, and resorts – with a commitment to being a leader in the construction of energy-efficient\, healthy and durable buildings. \n  \nSeminar Presentations: \n\n\n\nMID-RISE WOOD FRAME BUILDINGS – APEGBC\nBULLETIN & EXPERIENCES FROM THE PACIFIC NORTHWEST(Part 1 of 2)\nDave Ricketts\nRDH Building Engineering Ltd.\nApr 2009\n\n\n\nMID-RISE WOOD FRAME BUILDINGS – APEGBC\nBULLETIN & EXPERIENCES FROM THE PACIFIC NORTHWEST(Part 2 of 2)\nMike Steffen\nWalsh Construction Co.\nApr 2009\n\nPart A\n\nPart B\n\nPart C
URL:https://bcbec.com/event/vancouver-luncheon-mid-rise-wood-frame-buildings-apegbc-bulletin-experiences-pacific-northwest/
LOCATION:Plaza 500\, 500 W 12th Ave\, Vancouver\, BC\, V5Z 1M2\, Canada
CATEGORIES:Vancouver Events,Workshops & Seminars
END:VEVENT
END:VCALENDAR