BEGIN:VCALENDAR
VERSION:2.0
PRODID:-//BCBEC - ECPv5.16.4//NONSGML v1.0//EN
CALSCALE:GREGORIAN
METHOD:PUBLISH
X-WR-CALNAME:BCBEC
X-ORIGINAL-URL:https://bcbec.com
X-WR-CALDESC:Events for BCBEC
BEGIN:VTIMEZONE
TZID:America/Vancouver
BEGIN:DAYLIGHT
TZOFFSETFROM:-0800
TZOFFSETTO:-0700
TZNAME:PDT
DTSTART:20090308T100000
END:DAYLIGHT
BEGIN:STANDARD
TZOFFSETFROM:-0700
TZOFFSETTO:-0800
TZNAME:PST
DTSTART:20091101T090000
END:STANDARD
END:VTIMEZONE
BEGIN:VEVENT
DTSTART;TZID=America/Vancouver:20090611T120000
DTEND;TZID=America/Vancouver:20090611T140000
DTSTAMP:20260425T212944
CREATED:20171027T071743Z
LAST-MODIFIED:20180207T221707Z
UID:1344-1244721600-1244728800@bcbec.com
SUMMARY:Vancouver Luncheon:  Building Air Leakage
DESCRIPTION:Steven Tratt is in charge of material sales and services for the Zerodraft division of Canam Building Envelope Specialists Inc. Zerodraft manufactures and distributes a comprehensive range of weatherization materials including one and two component polyurethane foam insulating air sealants\, door and window weather-stripping\, fire stopping systems and air tightness testing equipment. Steven has had over 25 years experience in sales and marketing. He has had considerable experience training Building Envelope Retrofit Contractors in both Canada and the U.S.A. and has presented to Associations including Construction Specifications Canada\, Construct Canada\, Association of Condominium Managers of Ontario\, Toronto Better Buildings Partnership and Ontario Non-Profit Housing Association. In the U.S. he has trained and presented at National and Regional Affordable Comfort Conferences and Certified Contractors Network (CCN) conferences. Steve is currently involved in organizing and presenting seminars for Architects and Engineers throughout Canada and the Eastern United States . \nSteve will be speaking about how uncontrolled air leakage\, through the building envelope\, can lead to condensation\, moisture damage in hidden cavities\, rain penetration\, poor indoor temperature and humidity control\, and unnecessary heat loss in winter or heat gain in summer. \n  \nSeminar Presentation: \n\n\n\nBUILDING AIR LEAKAGE\nSteven Tratt\nZerodraft\n(Division of Canam Building Envelope Specialists Inc.)\nJune 2009
URL:https://bcbec.com/event/vancouver-luncheon-building-air-leakage/
LOCATION:Plaza 500\, 500 W 12th Ave\, Vancouver\, BC\, V5Z 1M2\, Canada
CATEGORIES:Vancouver Events,Workshops & Seminars
END:VEVENT
END:VCALENDAR