BEGIN:VCALENDAR
VERSION:2.0
PRODID:-//BCBEC - ECPv5.16.4//NONSGML v1.0//EN
CALSCALE:GREGORIAN
METHOD:PUBLISH
X-WR-CALNAME:BCBEC
X-ORIGINAL-URL:https://bcbec.com
X-WR-CALDESC:Events for BCBEC
BEGIN:VTIMEZONE
TZID:America/Vancouver
BEGIN:DAYLIGHT
TZOFFSETFROM:-0800
TZOFFSETTO:-0700
TZNAME:PDT
DTSTART:20070311T100000
END:DAYLIGHT
BEGIN:STANDARD
TZOFFSETFROM:-0700
TZOFFSETTO:-0800
TZNAME:PST
DTSTART:20071104T090000
END:STANDARD
END:VTIMEZONE
BEGIN:VEVENT
DTSTART;TZID=America/Vancouver:20070111T120000
DTEND;TZID=America/Vancouver:20070111T140000
DTSTAMP:20260424T024219
CREATED:20180125T192446Z
LAST-MODIFIED:20180125T192528Z
UID:1601-1168516800-1168524000@bcbec.com
SUMMARY:SOUTH EAST FALSE CREEK 2007\, VANCOUVER OLYMPIC VILLAGE: DESIGN FOR NET ZERO ENERGY BUILDINGS
DESCRIPTION:Seminar Presentation: \n\n\n\nSOUTH EAST FALSE CREEK 2007\, VANCOUVER OLYMPIC VILLAGE: DESIGN FOR NET ZERO ENERGY BUILDINGS\n\nAlbert Bicol\nCobalt Engineering\n\nJan 2007
URL:https://bcbec.com/event/south-east-false-creek-2007-vancouver-olympic-village-design-net-zero-energy-buildings/
LOCATION:Plaza 500\, 500 W 12th Ave\, Vancouver\, BC\, V5Z 1M2\, Canada
CATEGORIES:Vancouver Events,Workshops & Seminars
END:VEVENT
END:VCALENDAR