BEGIN:VCALENDAR
VERSION:2.0
PRODID:-//BCBEC - ECPv5.16.4//NONSGML v1.0//EN
CALSCALE:GREGORIAN
METHOD:PUBLISH
X-WR-CALNAME:BCBEC
X-ORIGINAL-URL:https://bcbec.com
X-WR-CALDESC:Events for BCBEC
BEGIN:VTIMEZONE
TZID:America/Vancouver
BEGIN:DAYLIGHT
TZOFFSETFROM:-0800
TZOFFSETTO:-0700
TZNAME:PDT
DTSTART:20070311T100000
END:DAYLIGHT
BEGIN:STANDARD
TZOFFSETFROM:-0700
TZOFFSETTO:-0800
TZNAME:PST
DTSTART:20071104T090000
END:STANDARD
END:VTIMEZONE
BEGIN:VEVENT
DTSTART;TZID=America/Vancouver:20071030T183000
DTEND;TZID=America/Vancouver:20071030T210000
DTSTAMP:20260424T024454
CREATED:20171027T150829Z
LAST-MODIFIED:20180125T202628Z
UID:1401-1193769000-1193778000@bcbec.com
SUMMARY:Industry / Student Mixer Evening
DESCRIPTION:BCIT (Building SE2) 6:30 pm \nThe Architectural and Building Engineering Technology program at BCIT is hosting an industry/student mixer evening. \nThis is an excellent opportunity to meet with the students eligible for graduation in May 2008\, as well as providing industry networking opportunities. \nFor more information\, please click: PDF
URL:https://bcbec.com/event/industry-student-mixer-evening/
CATEGORIES:Vancouver Events,Workshops & Seminars
END:VEVENT
END:VCALENDAR