BEGIN:VCALENDAR
VERSION:2.0
PRODID:-//BCBEC - ECPv5.16.4//NONSGML v1.0//EN
CALSCALE:GREGORIAN
METHOD:PUBLISH
X-WR-CALNAME:BCBEC
X-ORIGINAL-URL:https://bcbec.com
X-WR-CALDESC:Events for BCBEC
BEGIN:VTIMEZONE
TZID:America/Vancouver
BEGIN:DAYLIGHT
TZOFFSETFROM:-0800
TZOFFSETTO:-0700
TZNAME:PDT
DTSTART:20260308T100000
END:DAYLIGHT
BEGIN:STANDARD
TZOFFSETFROM:-0700
TZOFFSETTO:-0800
TZNAME:PST
DTSTART:20261101T090000
END:STANDARD
END:VTIMEZONE
BEGIN:VEVENT
DTSTART;TZID=America/Vancouver:20260225T080000
DTEND;TZID=America/Vancouver:20260225T160000
DTSTAMP:20260425T035920
CREATED:20260213T162153Z
LAST-MODIFIED:20260213T162153Z
UID:9256-1772006400-1772035200@bcbec.com
SUMMARY:Canada Green Building Council (CAGBC) presents: Transition Planning Now Workshop - Vancouver
DESCRIPTION:DATE: February 25\, 2026 \nDURATION: 8 hours\nREGISTRATION & BREAKFAST: 8:00am Pacific Standard Time\nMAIN PROGRAM: 9:00am – 3:00pm Pacific Standard Time\nCOFFEE & NETWORKING: 3:00pm – 4:00pm Pacific Standard Time\nLOCATION: Room WCC320 – Simon Fraser University – Downtown Campus\n580 West Hastings Street\, Vancouver\, BC\, V6B 1L6 \nDoors open at 7:30am Pacific Standard Time.\nRegistration closes on February 24 at 9:00 am Pacific Standard Time. \nEvent Highlights\nCanada’s building sector is entering a decisive decade marked by accelerating climate targets\, evolving energy and emissions codes\, and growing expectation from investors\, occupants\, and regulators. Practitioners are increasingly being asked not only to design and deliver compliant projects\, but to help building owners plan and implement credible\, long-term transition pathways toward low-carbon\, high-performance buildings. Transition Planning Now offers a four-hour\, in-person\, practitioner-focused workshop delivered by RDH Building Science on behalf of the Canada Green Building Council (CAGBC). The workshop leverages CAGBC’s new Carbon Transition Planning Guide to help industry practitioners understand how to plan and implement effective transition plans that support the highest tiers of the National Energy Code for Buildings (NECB) and other regional high-performance building codes\, regulations\, and programs that drive emissions reductions. \nLearning Objectives\n• Market Drivers and Risks: Evaluate the influence of evolving market drivers and risk factors alongside jurisdictional requirements (such as NECB and building performance standards) on project strategy and long-term asset value.\n• Guide Application: Work through the Carbon Transition Planning Guide’s four-stage process—preparation\, plan development\, implementation\, and post-retrofit optimization using technical exercises and real-world scenarios.\n• Stakeholder Engagement: Practice methods for engaging owners and project teams\, surfacing priorities\, and integrating diverse needs into project planning.\n• Project Integration: Explore strategies for integrating climate adaptation and resilience measures into transition plans\, aligned with capital renewal cycles\, funding opportunities\, and certification pathways.\n• Case Studies and Peer Exchange: Examine examples from a range of building types and ownership models and discuss practical solutions with peers. \nFOR MORE INFORMATION AND REGISTRATION\nFor more Information and Registration\, please visit CAGBC website \n \n \n 
URL:https://bcbec.com/event/canada-green-building-council-cagbc-presents-transition-planning-now-workshop-vancouver/
LOCATION:Room WCC320 – Simon Fraser University – Downtown Campus\, 580 W Hastings Street\, Vancouver\, BC\, V6B 5K3\, Canada
CATEGORIES:Industry Events,Vancouver Events
END:VEVENT
END:VCALENDAR