BEGIN:VCALENDAR
VERSION:2.0
PRODID:-//BCBEC - ECPv5.16.4//NONSGML v1.0//EN
CALSCALE:GREGORIAN
METHOD:PUBLISH
X-WR-CALNAME:BCBEC
X-ORIGINAL-URL:https://bcbec.com
X-WR-CALDESC:Events for BCBEC
BEGIN:VTIMEZONE
TZID:America/Vancouver
BEGIN:DAYLIGHT
TZOFFSETFROM:-0800
TZOFFSETTO:-0700
TZNAME:PDT
DTSTART:20190310T100000
END:DAYLIGHT
BEGIN:STANDARD
TZOFFSETFROM:-0700
TZOFFSETTO:-0800
TZNAME:PST
DTSTART:20191103T090000
END:STANDARD
END:VTIMEZONE
BEGIN:VEVENT
DTSTART;TZID=America/Vancouver:20190321T120000
DTEND;TZID=America/Vancouver:20190321T140000
DTSTAMP:20260423T122407
CREATED:20181129T193840Z
LAST-MODIFIED:20190718T175324Z
UID:4188-1553169600-1553176800@bcbec.com
SUMMARY:BCBEC Vancouver Luncheon Seminar: R30+ Effective Roofs in Residential Construction in B.C.
DESCRIPTION:ABOUT THE PRESENTER: Lorne Ricketts\, MASc\, P.Eng.\, RDH Building Science Inc.\nLorne Ricketts\, MASc\, P.Eng. is a Principal and Building Science Specialist with RDH Building Science Inc. and specializes in new construction\, investigation\, research\, and education projects. Recently\, Lorne led the development of the Illustrated Guide to R30+ Effective Vaulted & Flat Roofs in Residential Construction. \n  \nABOUT THE TOPIC: \nAn increased level of thermal performance is becoming necessary as part of energy performance improvements required by the BC Energy Step Code and the Vancouver Building Bylaw. Each building and construction project is different and presents unique challenges and considerations. This presentation will provide an overview of potentially applicable assemblies to meet the bylaw performance targets for compact (non-attic) roofs on low-rise wood-frame detached and semi-detached homes and townhouses in British Columbia. \nJoin us for this educational luncheon seminar presented by BCBEC in partnership with BC Housing. \n  \n\nSEMINAR PRESENTATION:\n\n\n\nR30+ Effective Roofs in Residential Construction in B.C.\n \nLorne RickettsRDH Building Science Inc.\nMarch 2019
URL:https://bcbec.com/event/bcbec-vancouver-luncheon-21march2019/
LOCATION:The Italian Cultural Centre Society\, 3075 Slocan Street\, Vancouver\, British Columbia\, V5M 3E4\, Canada
CATEGORIES:Vancouver Events,Workshops & Seminars
ATTACH;FMTTYPE=image/jpeg:https://bcbec.com/wp-content/uploads/2018/09/Lorne-Ricketts.jpg
END:VEVENT
END:VCALENDAR