BEGIN:VCALENDAR
VERSION:2.0
PRODID:-//BCBEC - ECPv5.16.4//NONSGML v1.0//EN
CALSCALE:GREGORIAN
METHOD:PUBLISH
X-WR-CALNAME:BCBEC
X-ORIGINAL-URL:https://bcbec.com
X-WR-CALDESC:Events for BCBEC
BEGIN:VTIMEZONE
TZID:America/Vancouver
BEGIN:DAYLIGHT
TZOFFSETFROM:-0800
TZOFFSETTO:-0700
TZNAME:PDT
DTSTART:20210314T100000
END:DAYLIGHT
BEGIN:STANDARD
TZOFFSETFROM:-0700
TZOFFSETTO:-0800
TZNAME:PST
DTSTART:20211107T090000
END:STANDARD
END:VTIMEZONE
BEGIN:VEVENT
DTSTART;TZID=America/Vancouver:20210608T100000
DTEND;TZID=America/Vancouver:20210608T120000
DTSTAMP:20260424T125018
CREATED:20210430T141645Z
LAST-MODIFIED:20210430T141645Z
UID:6364-1623146400-1623153600@bcbec.com
SUMMARY:BC Housing presents Building Smart - Cooling Strategies for Multi-Unit Residential Buildings
DESCRIPTION:Are you thinking of installing a heat pump or air conditioning unit? Learn about alternative strategies to address overheating concerns\, and how to proceed if you decide to use a heat pump. This webinar will explore cooling solutions in multi-unit residential buildings\, as well as: \n\n\nhow to select the right contractor\ntypes of heat pumps\nheat pump design options\ninstallation considerations\, including specifications for penetrating the building envelope\n\nThis virtual event will be of interest to building and condo owners\, homeowners\, renovators\, HVAC contractors\, strata and property managers\, building asset managers and building officials. \n  \nAbout the presenter\nLoveleen Atwal (P.Eng.\, MASc) is a project engineer at Morrison Hershfield with more than seven years of experience specializing in building enclosures. She has worked on a variety of projects involving design of new construction and rehabilitation projects (both low-rise and high-rise construction). \nLoveleen provides consultation and design assistance to help reduce thermal energy demand intensity and overall energy use in buildings through the implementation of high-performance building envelope systems. She has a background in designing residential heating and ventilation systems for Part 9 buildings. \n  \nMore Information and Registration\nFor More Information and Registration for this event\, please visit BC Housing Website. \n \n 
URL:https://bcbec.com/event/bc-housing-presents-building-smart-cooling-strategies-for-multi-unit-residential-buildings/
CATEGORIES:Industry Events
END:VEVENT
END:VCALENDAR