BEGIN:VCALENDAR
VERSION:2.0
PRODID:-//BCBEC - ECPv5.16.4//NONSGML v1.0//EN
CALSCALE:GREGORIAN
METHOD:PUBLISH
X-WR-CALNAME:BCBEC
X-ORIGINAL-URL:https://bcbec.com
X-WR-CALDESC:Events for BCBEC
BEGIN:VTIMEZONE
TZID:America/Vancouver
BEGIN:DAYLIGHT
TZOFFSETFROM:-0800
TZOFFSETTO:-0700
TZNAME:PDT
DTSTART:20210314T100000
END:DAYLIGHT
BEGIN:STANDARD
TZOFFSETFROM:-0700
TZOFFSETTO:-0800
TZNAME:PST
DTSTART:20211107T090000
END:STANDARD
END:VTIMEZONE
BEGIN:VEVENT
DTSTART;TZID=America/Vancouver:20211008T083000
DTEND;TZID=America/Vancouver:20211008T123000
DTSTAMP:20260422T154523
CREATED:20211014T195903Z
LAST-MODIFIED:20211014T203701Z
UID:6678-1633681800-1633696200@bcbec.com
SUMMARY:2021 BCBEC Half-Day Webinar & AGM Video & Presentations
DESCRIPTION:2021 BCBEC HALF-DAY WEBINAR & AGM VIDEO\nSession 1:  00:03:09\nSession 2:  00:58:02\nSession 3:  01:44:44\nSession 4:  02:28:58\nAGM:           03:11:15\n\n\n\nOct 2021\n\n\n\n\n\n2021 BCBEC HALF-DAY WEBINAR & AGM PROGRAM:\nClick on picture for larger view (pdf)\n\n  \nPage Updated October 14\, 2021 1:00 pm \n 
URL:https://bcbec.com/event/2021-bcbec-half-day-webinar-agm-video-presentations/
LOCATION:Online Webinar
CATEGORIES:AGM,Half-Day Webinar,Online Webinar,Vancouver Events,Vancouver Island Events,Workshops & Seminars
END:VEVENT
END:VCALENDAR